BEGIN:VCALENDAR
VERSION:2.0
PRODID:-//wp-events-plugin.com//5.99912//EN
TZID:Europe/Paris
X-WR-TIMEZONE:Europe/Paris
BEGIN:VEVENT
UID:0-661@cdg29.bzh
DTSTART:20260512T100000Z
DTEND:20260512T163000Z
DTSTAMP:20260413T083717Z
URL:https://www.cdg29.bzh/evenements/reunion-des-secretaires-generaux-de-m
 airie/
SUMMARY:Réunion des secrétaires généraux de mairie
DESCRIPTION:Le Centre de gestion du Finistère vous convie à une nouvelle 
 journée dédiée au réseau des secrétaires généraux de mairie\nMardi 
 12 mai 2026\, au Centre de Gestion du Finistère\n7 boulevard du Finistèr
 eQuimper.\nCette rencontre s’inscrit dans la continuité des travaux eng
 agés lors de la dernière réunion et vise à renforcer un réseau collab
 oratif\, utile et adapté à vos besoins.\nProgramme de la journée\n10h00
  – 11h00 : Retour sur notre réflexion concernant la structuration du r
 éseau des secrétaires généraux de mairie\nLors de notre dernière renc
 ontre en septembre dernier\, nous avons réfléchi\, sous forme d’atelie
 rs\, à vos besoins d’accompagnement ( fréquences de rencontre\, théma
 tiques abordées\, outils de travail et de communication…) afin de const
 ruire ensemble le réseau des secrétaires généraux de mairie de demain.
 \nNous vous proposons une restitution de ce travail qui nous permettra d
 ’établir une feuille de route pour les prochaines années.\nNous compto
 ns sur votre mobilisation afin de rendre ce réseau vivant\, participatif 
 et surtout répondant à vos attentes.\n11h00 – 12h00 : Sensibilisation 
 à la protection des données personnelles\nUne session de sensibilisation
  pour :\nComprendre l’intérêt et les enjeux d’une charte de la prote
 ction des données\nIdentifier les bonnes pratiques pour la mise à dispos
 ition de moyens numériques sécurisés aux élus\nDans cette session\, d
 écouvrons pourquoi une charte est essentielle pour sécuriser les donnée
 s personnelles et protéger les citoyens et la collectivité. Puis discuto
 ns des bonnes pratiques de mise à disposition de moyens numériques sécu
 risés.\n13h30 – 16h30 : Ateliers sur la rédaction du règlement intér
 ieur du conseil municipal et les délégations.\nAfin de sécuriser vos pr
 atiques\, nous vous proposons d’échanger sur la rédaction de votre rè
 glement intérieur du conseil municipal et les délégations (compétence\
 , fonction et signature)\, après avoir posé le cadre juridique.\nNous vo
 us invitions à venir avec vos documents pour en échanger.\nDéjeuner off
 ert\nPour les secrétaires généraux de mairie qui le souhaitent\, le Cen
 tre de Gestion vous offre le déjeuner au restaurant administratif (merci 
 de le préciser dans le formulaire d'inscription).\nInscription\nNous vous
  attendons nombreux pour faire vivre ce réseau\, le rendre participatif e
 t en adéquation avec vos attentes.Vous pouvez vous inscrire en complétan
 t le formulaire ci-dessous.
ATTACH;FMTTYPE=image/jpeg:https://www.cdg29.bzh/app/uploads/4/1/2026/04/Re
 union_groupe.jpg
LOCATION:
X-APPLE-STRUCTURED-LOCATION;VALUE=URI;X-ADDRESS=France;X-APPLE-RADIUS=100;X
 -TITLE=:geo:0,0
END:VEVENT
END:VCALENDAR